BEGIN:VCALENDAR
VERSION:2.0
PRODID:-//ChamberMaster//Event Calendar 2.0//EN
METHOD:PUBLISH
X-PUBLISHED-TTL:P3D
REFRESH-INTERVAL:P3D
CALSCALE:GREGORIAN
BEGIN:VEVENT
DTSTART:20200222T233000Z
DTEND:20200223T023000Z
X-MICROSOFT-CDO-ALLDAYEVENT:FALSE
SUMMARY:Kingdom of Callaway Historical Society's 7th Annual President's Day Trivia Night
DESCRIPTION:Trivia teams will consist of 8 players - meal will begin at 5:30PM and the game will start at 6:30PM.
X-ALT-DESC;FMTTYPE=text/html:Trivia teams will consist of 8 players - meal will begin at 5:30PM and the game will start at 6:30PM.
LOCATION:Callaway Electric Cooperative
UID:e.1836.10662
SEQUENCE:3
DTSTAMP:20260424T211928Z
URL:https://business.callawaychamber.net/events/details/kingdom-of-callaway-historical-society-s-7th-annual-president-s-day-trivia-night-10662
END:VEVENT

END:VCALENDAR
