BEGIN:VCALENDAR
VERSION:2.0
PRODID:-//ChamberMaster//Event Calendar 2.0//EN
METHOD:PUBLISH
X-PUBLISHED-TTL:P3D
REFRESH-INTERVAL:P3D
CALSCALE:GREGORIAN
BEGIN:VEVENT
DTSTART:20190305T230000Z
DTEND:20190306T020000Z
X-MICROSOFT-CDO-ALLDAYEVENT:FALSE
SUMMARY:Kingdom of Callaway Supper
DESCRIPTION:114th Kingdom of Callaway Supper\n\nBill Books\, President \n\nGuest of Honor\, TBA early February \n\nTuesday\, March 5\, 2019 \n\nWilliam Woods University\n\n5:00-6:30 Presidents Reception\n\n       Kemper Art Center\n\n7:00 Dinner at Tucker Dining Hall\n\n8:00 Program\n\n        Dulany Auditorium\n\nTicket price TBD
X-ALT-DESC;FMTTYPE=text/html:114th Kingdom of Callaway Supper<br />\nBill Books\, President&nbsp\;<br />\nGuest of Honor\, TBA early February&nbsp\;<br />\nTuesday\, March 5\, 2019&nbsp\;<br />\nWilliam Woods University<br />\n5:00-6:30 Presidents Reception<br />\n&nbsp\; &nbsp\; &nbsp\; &nbsp\;Kemper Art Center<br />\n7:00 Dinner at Tucker Dining Hall<br />\n8:00 Program<br />\n&nbsp\; &nbsp\; &nbsp\; &nbsp\; Dulany Auditorium<br />\nTicket price TBD
LOCATION:William Woods University
UID:e.1836.10528
SEQUENCE:3
DTSTAMP:20260425T142650Z
URL:https://business.callawaychamber.net/events/details/kingdom-of-callaway-supper-10528
END:VEVENT

END:VCALENDAR
