BEGIN:VCALENDAR
VERSION:2.0
PRODID:-//ChamberMaster//Event Calendar 2.0//EN
METHOD:PUBLISH
X-PUBLISHED-TTL:P3D
REFRESH-INTERVAL:P3D
CALSCALE:GREGORIAN
BEGIN:VEVENT
DTSTART:20210910T230000Z
DTEND:20210911T020000Z
X-MICROSOFT-CDO-ALLDAYEVENT:FALSE
SUMMARY:Ladies' Night with DJ JT and Chef's Taco Truck!
DESCRIPTION:It's Ladies' Night at Serenity Valley Winery with DJ JT\, and Chef's Taco Truck by La Chica Loca! Grab your girlfriends (and boyfriends) and join us for a night away! Door prizes for the first 10 guests!
X-ALT-DESC;FMTTYPE=text/html:It&#39\;s Ladies&#39\; Night at Serenity Valley Winery with DJ JT\, and Chef&#39\;s Taco Truck by La Chica Loca! Grab your girlfriends (and boyfriends) and join us for a night away! Door prizes for the first 10 guests!&nbsp\;
LOCATION:Serenity Valley Winery 1888 County Road 342 Fulton\, MO 65251
UID:e.1836.10894
SEQUENCE:3
DTSTAMP:20260424T164528Z
URL:https://business.callawaychamber.net/events/details/ladies-night-with-dj-jt-and-chef-s-taco-truck-10894
END:VEVENT

END:VCALENDAR
