BEGIN:VCALENDAR
VERSION:2.0
PRODID:-//ChamberMaster//Event Calendar 2.0//EN
METHOD:PUBLISH
X-PUBLISHED-TTL:P3D
REFRESH-INTERVAL:P3D
CALSCALE:GREGORIAN
BEGIN:VEVENT
DTSTART;VALUE=DATE:20191017
DTEND;VALUE=DATE:20191018
TRANSP:TRANSPARENT
X-MICROSOFT-CDO-ALLDAYEVENT:TRUE
SUMMARY:Leadership Callaway 2020
DESCRIPTION:Local Government
X-ALT-DESC;FMTTYPE=text/html:Local Government
LOCATION:
UID:e.1836.10581
SEQUENCE:3
DTSTAMP:20260425T030623Z
URL:https://business.callawaychamber.net/events/details/leadership-callaway-2020-10581
END:VEVENT

END:VCALENDAR
