BEGIN:VCALENDAR
VERSION:2.0
PRODID:-//ChamberMaster//Event Calendar 2.0//EN
METHOD:PUBLISH
X-PUBLISHED-TTL:P3D
REFRESH-INTERVAL:P3D
CALSCALE:GREGORIAN
BEGIN:VEVENT
DTSTART;VALUE=DATE:20200416
DTEND;VALUE=DATE:20200417
TRANSP:TRANSPARENT
X-MICROSOFT-CDO-ALLDAYEVENT:TRUE
SUMMARY:Leadership Callaway 2020
DESCRIPTION:Entrepreneurship/Closing Session
X-ALT-DESC;FMTTYPE=text/html:Entrepreneurship/Closing Session
LOCATION:
UID:e.1836.10587
SEQUENCE:3
DTSTAMP:20260424T182005Z
URL:https://business.callawaychamber.net/events/details/leadership-callaway-2020-10587
END:VEVENT

END:VCALENDAR
