BEGIN:VCALENDAR
VERSION:2.0
PRODID:-//ChamberMaster//Event Calendar 2.0//EN
METHOD:PUBLISH
X-PUBLISHED-TTL:P3D
REFRESH-INTERVAL:P3D
CALSCALE:GREGORIAN
BEGIN:VEVENT
DTSTART:20190509T220000Z
DTEND:20190510T003000Z
X-MICROSOFT-CDO-ALLDAYEVENT:FALSE
SUMMARY:Leadership Callaway Commencement
DESCRIPTION:Commencement for Leadership Callaway Class of 2019
X-ALT-DESC;FMTTYPE=text/html:Commencement for Leadership Callaway Class of 2019
LOCATION:KACO-The Kitchen
UID:e.1836.10549
SEQUENCE:3
DTSTAMP:20260425T111021Z
URL:https://business.callawaychamber.net/events/details/leadership-callaway-commencement-10549
END:VEVENT

END:VCALENDAR
