BEGIN:VCALENDAR
VERSION:2.0
PRODID:-//ChamberMaster//Event Calendar 2.0//EN
METHOD:PUBLISH
X-PUBLISHED-TTL:P3D
REFRESH-INTERVAL:P3D
CALSCALE:GREGORIAN
BEGIN:VEVENT
DTSTART:20260514T220000Z
DTEND:20260515T000000Z
X-MICROSOFT-CDO-ALLDAYEVENT:FALSE
SUMMARY:2026 Leadership Callaway Commencement and 2027 Class Reveal
DESCRIPTION:Leadership and Jr. Leadership Commencement\n\n2027 Class Reveals
X-ALT-DESC;FMTTYPE=text/html:Leadership and Jr. Leadership Commencement<br />\n2027 Class Reveals&nbsp\;&nbsp\;&nbsp\;&nbsp\;
LOCATION:Legends Rec Plex 808 State Street\, Fulton\, MO 65251
UID:e.1836.11883
SEQUENCE:3
DTSTAMP:20260419T140907Z
URL:https://business.callawaychamber.net/events/details/2026-leadership-callaway-commencement-and-reveal-11883
END:VEVENT

END:VCALENDAR
