BEGIN:VCALENDAR
VERSION:2.0
PRODID:-//ChamberMaster//Event Calendar 2.0//EN
METHOD:PUBLISH
X-PUBLISHED-TTL:P3D
REFRESH-INTERVAL:P3D
CALSCALE:GREGORIAN
BEGIN:VEVENT
DTSTART;VALUE=DATE:20200324
DTEND;VALUE=DATE:20200325
TRANSP:TRANSPARENT
X-MICROSOFT-CDO-ALLDAYEVENT:TRUE
SUMMARY:Leadership Training with Gary Wilbers - DAY 2
DESCRIPTION:This highly intensive leadership training course will be a hands-on class.  This course is to equip individuals with the essential skills and tools to get work done with and through people.  The program is ideal for new leaders who need to transition successfully from individual contributors to leaders of others.  It also applies to leaders who have been in their role for some time and are looking for practical and relevant guidance on how to effectively lead and manage their teams.
X-ALT-DESC;FMTTYPE=text/html:This highly intensive leadership training course will be a hands-on class.&nbsp\; This course is to equip individuals with the essential skills and tools to get work done with and through people.&nbsp\; The program is ideal for new leaders who need to transition successfully from individual contributors to leaders of others.&nbsp\; It also applies to leaders who have been in their role for some time and are looking for practical and relevant guidance on how to effectively lead and manage their teams.&nbsp\;&nbsp\;
LOCATION:Callaway Chamber of Commerce
UID:e.1836.10661
SEQUENCE:3
DTSTAMP:20260424T193951Z
URL:https://business.callawaychamber.net/events/details/leadership-training-with-gary-wilbers-day-2-10661
END:VEVENT

END:VCALENDAR
