BEGIN:VCALENDAR
VERSION:2.0
PRODID:-//ChamberMaster//Event Calendar 2.0//EN
METHOD:PUBLISH
X-PUBLISHED-TTL:P3D
REFRESH-INTERVAL:P3D
CALSCALE:GREGORIAN
BEGIN:VEVENT
DTSTART:20200504T140000Z
DTEND:20200504T150000Z
X-MICROSOFT-CDO-ALLDAYEVENT:FALSE
SUMMARY:Legality of COVID-19
DESCRIPTION:Join the Chamber and Jacquelyn Brazas with Riley & Stingley\, as she discusses legality of COVID-19 on businesses. She will examine libabilities and legal aspect pertaining to COVID-19. Please send questions you would like to ask to tamara@callawaychamber.net. Please RSVP to Justis at marketing@callawaychamber.net
X-ALT-DESC;FMTTYPE=text/html:<span class="JsGRdQ" style="color: rgb(0\, 0\, 0)\;">Join the Chamber and Jacquelyn Brazas with Riley &amp\; Stingley\, as she discusses legality of COVID-19 on businesses.</span><span class="JsGRdQ white-space-prewrap" style="color: rgb(0\, 0\, 0)\;"> </span><span class="JsGRdQ" style="color: rgb(0\, 0\, 0)\;">She will examine libabilities and legal aspect pertaining to COVID-19. Please send questions you would like to ask to tamara@callawaychamber.net. Please RSVP to Justis at marketing@callawaychamber.net</span>
LOCATION:Zoom
UID:e.1836.10685
SEQUENCE:3
DTSTAMP:20260424T164114Z
URL:https://business.callawaychamber.net/events/details/legality-of-covid-19-10685
END:VEVENT

END:VCALENDAR
