BEGIN:VCALENDAR
VERSION:2.0
PRODID:-//ChamberMaster//Event Calendar 2.0//EN
METHOD:PUBLISH
X-PUBLISHED-TTL:P3D
REFRESH-INTERVAL:P3D
CALSCALE:GREGORIAN
BEGIN:VEVENT
DTSTART:20200327T170000Z
DTEND:20200327T180000Z
X-MICROSOFT-CDO-ALLDAYEVENT:FALSE
SUMMARY:Lenten Lunches
DESCRIPTION:First Christian Church (Disciples of Christ) 6 East 7th Street\, will host a series of six community 2020 Lenten Lunches at 12:00 p.m. every Friday during Lent beginning February 28th - April 3rd. A light lunch will be served each week\, followed by a presentation based on the book Simon Peter: Flawed But Faithful Disciple\, by Adam Hamilton
X-ALT-DESC;FMTTYPE=text/html:First Christian Church (Disciples of Christ) 6 East 7th Street\, will host a series of six community 2020 Lenten Lunches at 12:00 p.m. every Friday during Lent beginning February 28th - April 3rd. A light lunch will be served each week\, followed by a presentation based on the book Simon Peter: Flawed But Faithful Disciple\, by Adam Hamilton
LOCATION:First Christian Church\, Fulton 6 East 7th Street
UID:e.1836.10674
SEQUENCE:3
DTSTAMP:20260424T193951Z
URL:https://business.callawaychamber.net/events/details/lenten-lunches-10674
END:VEVENT

END:VCALENDAR
