BEGIN:VCALENDAR
VERSION:2.0
PRODID:-//ChamberMaster//Event Calendar 2.0//EN
METHOD:PUBLISH
X-PUBLISHED-TTL:P3D
REFRESH-INTERVAL:P3D
CALSCALE:GREGORIAN
BEGIN:VEVENT
DTSTART:20210925T230000Z
DTEND:20210926T020000Z
X-MICROSOFT-CDO-ALLDAYEVENT:FALSE
SUMMARY:Live Music with Apostle's Creek and Mammoth Bites Food Truck
DESCRIPTION:Join us for live music from Apostle's Creek and dinner with Mammoth Bites Food Truck!
X-ALT-DESC;FMTTYPE=text/html:Join us for live music from Apostle&#39\;s Creek and dinner with Mammoth Bites Food Truck!&nbsp\;
LOCATION:Serenity Valley Winery 1888 County Road 342 Fulton\, MO 65251
UID:e.1836.10897
SEQUENCE:3
DTSTAMP:20260424T164646Z
URL:https://business.callawaychamber.net/events/details/live-music-with-apostle-s-creek-and-mammoth-bites-food-truck-10897
END:VEVENT

END:VCALENDAR
