BEGIN:VCALENDAR
VERSION:2.0
PRODID:-//ChamberMaster//Event Calendar 2.0//EN
METHOD:PUBLISH
X-PUBLISHED-TTL:P3D
REFRESH-INTERVAL:P3D
CALSCALE:GREGORIAN
BEGIN:VEVENT
DTSTART:20210904T230000Z
DTEND:20210905T020000Z
X-MICROSOFT-CDO-ALLDAYEVENT:FALSE
SUMMARY:Live Music with Cosmic Riders and Fresh Harvest Grill
DESCRIPTION:Join us for live music from The Cosmic Riders and fresh eats from Fresh Harvest Grill!
X-ALT-DESC;FMTTYPE=text/html:Join us for live music from The Cosmic Riders and fresh eats from Fresh Harvest Grill!
LOCATION:Serenity Valley Winery 1888 County Road 342 Fulton\, MO 65251
UID:e.1836.10893
SEQUENCE:3
DTSTAMP:20260424T164732Z
URL:https://business.callawaychamber.net/events/details/live-music-with-cosmic-riders-and-fresh-harvest-grill-10893
END:VEVENT

END:VCALENDAR
