BEGIN:VCALENDAR
VERSION:2.0
PRODID:-//ChamberMaster//Event Calendar 2.0//EN
METHOD:PUBLISH
X-PUBLISHED-TTL:P3D
REFRESH-INTERVAL:P3D
CALSCALE:GREGORIAN
BEGIN:VEVENT
DTSTART:20210918T230000Z
DTEND:20210919T020000Z
X-MICROSOFT-CDO-ALLDAYEVENT:FALSE
SUMMARY:Live Music with Ray Cardwell & The Tennessee Moon Trio\, and Fresh Harvest Grill
DESCRIPTION:Join us for live music from Ray Cardwell & The Tennessee Moon Trio\, and dinner from Fresh Harvest Grill!
X-ALT-DESC;FMTTYPE=text/html:Join us for live music from Ray Cardwell &amp\; The Tennessee Moon Trio\, and dinner from Fresh Harvest Grill!&nbsp\;
LOCATION:Serenity Valley Winery 1888 County Road 342 Fulton\, MO 65251
UID:e.1836.10896
SEQUENCE:3
DTSTAMP:20260424T164646Z
URL:https://business.callawaychamber.net/events/details/live-music-with-ray-cardwell-the-tennessee-moon-trio-and-fresh-harvest-grill-10896
END:VEVENT

END:VCALENDAR
