BEGIN:VCALENDAR
VERSION:2.0
PRODID:-//ChamberMaster//Event Calendar 2.0//EN
METHOD:PUBLISH
X-PUBLISHED-TTL:P3D
REFRESH-INTERVAL:P3D
CALSCALE:GREGORIAN
BEGIN:VEVENT
DTSTART:20190218T170000Z
DTEND:20190222T190000Z
X-MICROSOFT-CDO-ALLDAYEVENT:FALSE
SUMMARY:Loafers Week in Auxvasse
DESCRIPTION:Loafers Week
X-ALT-DESC;FMTTYPE=text/html:Loafers Week
LOCATION:Community Hall Auxvasse\, MO
UID:e.1836.10536
SEQUENCE:3
DTSTAMP:20260425T160114Z
URL:https://business.callawaychamber.net/events/details/loafers-week-in-auxvasse-10536
END:VEVENT

END:VCALENDAR
