BEGIN:VCALENDAR
VERSION:2.0
PRODID:-//ChamberMaster//Event Calendar 2.0//EN
METHOD:PUBLISH
X-PUBLISHED-TTL:P3D
REFRESH-INTERVAL:P3D
CALSCALE:GREGORIAN
BEGIN:VEVENT
DTSTART:20180223T180000Z
DTEND:20180223T190000Z
X-MICROSOFT-CDO-ALLDAYEVENT:FALSE
SUMMARY:Lunch and Learn
DESCRIPTION:Lunch and Learn - Missouri Department of Corrections\n\n\n\n**See attached flyer**
X-ALT-DESC;FMTTYPE=text/html:Lunch and Learn - Missouri Department of Corrections<br />\n<br />\n**See attached flyer**
LOCATION:Callaway Chamber of Commerce 510 Market Street Fulton MO 65251
UID:e.1836.10278
SEQUENCE:3
DTSTAMP:20260420T191901Z
URL:https://business.callawaychamber.net/events/details/lunch-and-learn-10278
END:VEVENT

END:VCALENDAR
