BEGIN:VCALENDAR
VERSION:2.0
PRODID:-//ChamberMaster//Event Calendar 2.0//EN
METHOD:PUBLISH
X-PUBLISHED-TTL:P3D
REFRESH-INTERVAL:P3D
CALSCALE:GREGORIAN
BEGIN:VEVENT
DTSTART:20180222T170000Z
DTEND:20180222T183000Z
X-MICROSOFT-CDO-ALLDAYEVENT:FALSE
SUMMARY:Lunch and Learn
DESCRIPTION:H&R Block Lunch and Learn\n\nTax Reform
X-ALT-DESC;FMTTYPE=text/html:H&amp\;R Block Lunch and Learn<br />\nTax Reform
LOCATION:Callaway Chamber of Commerce 510 Market St. Fulton MO 65251
UID:e.1836.10280
SEQUENCE:3
DTSTAMP:20260422T085232Z
URL:https://business.callawaychamber.net/events/details/lunch-and-learn-10280
END:VEVENT

END:VCALENDAR
