BEGIN:VCALENDAR
VERSION:2.0
PRODID:-//ChamberMaster//Event Calendar 2.0//EN
METHOD:PUBLISH
X-PUBLISHED-TTL:P3D
REFRESH-INTERVAL:P3D
CALSCALE:GREGORIAN
BEGIN:VEVENT
DTSTART:20180924T170000Z
DTEND:20180924T180000Z
X-MICROSOFT-CDO-ALLDAYEVENT:FALSE
SUMMARY:Lunch and Learn
DESCRIPTION:Lunch N Learn on Better Utilizing Your Chamber Membership
X-ALT-DESC;FMTTYPE=text/html:Lunch N Learn on Better Utilizing Your Chamber Membership
LOCATION:Callaway Chamber of Commerce 510 Market St. Fulton MO 65251
UID:e.1836.10375
SEQUENCE:3
DTSTAMP:20260420T083857Z
URL:https://business.callawaychamber.net/events/details/lunch-and-learn-10375
END:VEVENT

END:VCALENDAR
