BEGIN:VCALENDAR
VERSION:2.0
PRODID:-//ChamberMaster//Event Calendar 2.0//EN
METHOD:PUBLISH
X-PUBLISHED-TTL:P3D
REFRESH-INTERVAL:P3D
CALSCALE:GREGORIAN
BEGIN:VEVENT
DTSTART:20221216T180000Z
DTEND:20221216T193000Z
X-MICROSOFT-CDO-ALLDAYEVENT:FALSE
SUMMARY:Lunch & Learn: Senior Life Planning
DESCRIPTION:The Callaway Chamber of Commerce and Kingdom Care Senior Living are holding a lunch & learn about Senior Living Planning. The following topics will be discussed: What you need to know when planning for you or your aging parent\, What Insurance you need (Medicare/Medicaid)\, Intermediate Care\, Skilled Therapy\, Long-Term Care\, & more.
X-ALT-DESC;FMTTYPE=text/html:The Callaway Chamber of Commerce and Kingdom Care Senior Living are holding a lunch &amp\; learn about Senior Living Planning. The following topics will be discussed: What you need to know when planning for you or your aging parent\, What Insurance you need (Medicare/Medicaid)\, Intermediate Care\, Skilled Therapy\, Long-Term Care\, &amp\; more.<br />\n&nbsp\;
LOCATION:Presbyterian Church 718 Court Street
UID:e.1836.11095
SEQUENCE:3
DTSTAMP:20260425T174114Z
URL:https://business.callawaychamber.net/events/details/lunch-learn-senior-life-planning-11095
END:VEVENT

END:VCALENDAR
