BEGIN:VCALENDAR
VERSION:2.0
PRODID:-//ChamberMaster//Event Calendar 2.0//EN
METHOD:PUBLISH
X-PUBLISHED-TTL:P3D
REFRESH-INTERVAL:P3D
CALSCALE:GREGORIAN
BEGIN:VEVENT
DTSTART:20181101T160000Z
DTEND:20181101T170000Z
X-MICROSOFT-CDO-ALLDAYEVENT:FALSE
SUMMARY:Lunch N Learn
DESCRIPTION:Lunch N Learn\n\nProtecting Your Business From Burglary\n\nPresented by the FPD with Det. Crystal Kent and Lt. Jason Barnes
X-ALT-DESC;FMTTYPE=text/html:Lunch N Learn<br />\nProtecting Your Business From Burglary<br />\nPresented by the FPD with Det. Crystal Kent and Lt. Jason Barnes
LOCATION:Callaway Chamber of Commerce 510 Market Street Fulton MO 65251
UID:e.1836.10508
SEQUENCE:3
DTSTAMP:20260425T211119Z
URL:https://business.callawaychamber.net/events/details/lunch-n-learn-10508
END:VEVENT

END:VCALENDAR
