BEGIN:VCALENDAR
VERSION:2.0
PRODID:-//ChamberMaster//Event Calendar 2.0//EN
METHOD:PUBLISH
X-PUBLISHED-TTL:P3D
REFRESH-INTERVAL:P3D
CALSCALE:GREGORIAN
BEGIN:VEVENT
DTSTART:20181109T170000Z
DTEND:20181109T190000Z
X-MICROSOFT-CDO-ALLDAYEVENT:FALSE
SUMMARY:Lunch N Learn
DESCRIPTION:Lunch n Learn\n\nInternship 101\nWhat is an internship? \n\n   Internship vs. volunteer vs. employee\n\n   Paid internship vs. unpaid internship   Is there a difference? What's preferred/allowed?\n\n   Earning academic credit   what's involved for the site supervisor?\n\no   What are the roles and responsibilities of a site supervisor/employer? \n\n   Mentor\, teach\, help develop soft skills and hard skills\n\no   Reality of an internship\n\n   Intern role and what they are required to do if they're earning academic credit\n\n   Address possible concerns of a site supervisor\n\no   Training help - address ideas for sites to do with their intern(s)\n\n   Initial meeting with student and goal setting\n\n   Learning about the organization and intern duties
X-ALT-DESC;FMTTYPE=text/html:Lunch n Learn<br />\nInternship 101\n<p class="m210425439486180535msolistparagraph" style="margin-left:1.0in">What is an internship? <o:p></o:p></p>\n\n<p class="m210425439486180535msolistparagraph" style="margin-left:1.5in"><span style="font-family:Wingdings">&sect\;</span><span style="font-size:7.0pt">&nbsp\; </span>Internship vs. volunteer vs. employee<o:p></o:p></p>\n\n<p class="m210425439486180535msolistparagraph" style="margin-left:1.5in"><span style="font-family:Wingdings">&sect\;</span><span style="font-size:7.0pt">&nbsp\; </span>Paid internship vs. unpaid internship &ndash\; Is there a difference? What&rsquo\;s preferred/allowed?<o:p></o:p></p>\n\n<p class="m210425439486180535msolistparagraph" style="margin-left:1.5in"><span style="font-family:Wingdings">&sect\;</span><span style="font-size:7.0pt">&nbsp\; </span>Earning academic credit &ndash\; what&rsquo\;s involved for the site supervisor?<o:p></o:p></p>\n\n<p class="m210425439486180535msolistparagraph" style="margin-left:1.0in"><span style="font-family:&quot\;Courier New&quot\;">o</span><span style="font-size:7.0pt">&nbsp\;&nbsp\; </span>What are the roles and responsibilities of a site supervisor/employer? <o:p></o:p></p>\n\n<p class="m210425439486180535msolistparagraph" style="margin-left:1.5in"><span style="font-family:Wingdings">&sect\;</span><span style="font-size:7.0pt">&nbsp\; </span>Mentor\, teach\, help develop soft skills and hard skills<o:p></o:p></p>\n\n<p class="m210425439486180535msolistparagraph" style="margin-left:1.0in"><span style="font-family:&quot\;Courier New&quot\;">o</span><span style="font-size:7.0pt">&nbsp\;&nbsp\; </span>Reality of an internship<o:p></o:p></p>\n\n<p class="m210425439486180535msolistparagraph" style="margin-left:1.5in"><span style="font-family:Wingdings">&sect\;</span><span style="font-size:7.0pt">&nbsp\; </span>Intern role and what they are required to do if they&rsquo\;re earning academic credit<o:p></o:p></p>\n\n<p class="m210425439486180535msolistparagraph" style="margin-left:1.5in"><span style="font-family:Wingdings">&sect\;</span><span style="font-size:7.0pt">&nbsp\; </span>Address possible concerns of a site supervisor<o:p></o:p></p>\n\n<p class="m210425439486180535msolistparagraph" style="margin-left:1.0in"><span style="font-family:&quot\;Courier New&quot\;">o</span><span style="font-size:7.0pt">&nbsp\;&nbsp\; </span>Training help - address ideas for sites to do with their intern(s)<o:p></o:p></p>\n\n<p class="m210425439486180535msolistparagraph" style="margin-left:1.5in"><span style="font-family:Wingdings">&sect\;</span><span style="font-size:7.0pt">&nbsp\; </span>Initial meeting with student and goal setting<o:p></o:p></p>\n\n<p class="m210425439486180535msolistparagraph" style="margin-left:1.5in"><span style="font-family:Wingdings">&sect\;</span><span style="font-size:7.0pt">&nbsp\; </span>Learning about the organization and intern duties<o:p></o:p></p>\n
LOCATION:Callaway Chamber of Commerce Training Room 510 Market Street Fulton MO 65251
UID:e.1836.10510
SEQUENCE:3
DTSTAMP:20260425T211012Z
URL:https://business.callawaychamber.net/events/details/lunch-n-learn-10510
END:VEVENT

END:VCALENDAR
