BEGIN:VCALENDAR
VERSION:2.0
PRODID:-//ChamberMaster//Event Calendar 2.0//EN
METHOD:PUBLISH
X-PUBLISHED-TTL:P3D
REFRESH-INTERVAL:P3D
CALSCALE:GREGORIAN
BEGIN:VEVENT
DTSTART:20181206T180000Z
DTEND:20181206T190000Z
X-MICROSOFT-CDO-ALLDAYEVENT:FALSE
SUMMARY:Lunch N Learn
DESCRIPTION:Learn to Leverage Cloud Voice Technology to Create Better Customer Experiences presented by Preston Sharp from TCS.  The cost saving advantages of moving your phone system to the cloud\n\nHelping folks understand the integrations that a cloud phone system can provide with current applications like skype for business\, existing CRMs\, cell phone applications\, and Google AI (artificial intelligence)\n\nMy big teaching point is helping businesses understand they spend huge amounts of money on marketing\, advertising\, etc to get their phones to ring with new business\, but once the phone is ringing they stop thinking about how the system they use can be leveraged to more effectively integrate with the company work flows allowing for better customer service and sales experiences for those calling in.
X-ALT-DESC;FMTTYPE=text/html:Learn to Leverage Cloud Voice Technology to Create Better Customer Experiences presented by Preston Sharp from TCS.&nbsp\;&nbsp\;<span style="color:#1F497D\;">The cost saving advantages of moving your phone system to the cloud</span><br />\n<span style="color:#1F497D\;">Helping folks understand the integrations that a cloud phone system can provide with current applications like skype for business\, existing CRMs\, cell phone applications\, and Google AI (artificial intelligence)</span><br />\n<span style="color:#1F497D\;"><span style="font-family:calibri\,sans-serif\;"><span style="font-size:11.0pt\;">My big teaching point is helping businesses understand they spend huge amounts of money on marketing\, advertising\, etc to get their phones to ring with new business\, but once the phone is ringing they stop thinking about how the system they use can be leveraged to more effectively integrate with the company work flows allowing for better customer service and sales experiences for those calling in.&nbsp\;</span></span></span>
LOCATION:Callaway Chamber of Commerce Training Room 510 Market Street Fulton MO 65251
UID:e.1836.10511
SEQUENCE:3
DTSTAMP:20260425T193039Z
URL:https://business.callawaychamber.net/events/details/lunch-n-learn-10511
END:VEVENT

END:VCALENDAR
