BEGIN:VCALENDAR
VERSION:2.0
PRODID:-//ChamberMaster//Event Calendar 2.0//EN
METHOD:PUBLISH
X-PUBLISHED-TTL:P3D
REFRESH-INTERVAL:P3D
CALSCALE:GREGORIAN
BEGIN:VEVENT
DTSTART:20200311T170000Z
DTEND:20200311T180000Z
X-MICROSOFT-CDO-ALLDAYEVENT:FALSE
SUMMARY:Lunch n Learn
DESCRIPTION:How Virtual Reality and Augmented Reality Are Transforming Manufacturing Manufacturing companies all over the world are already leveraging virtual reality (VR) and augmented reality (AR) technology today. Come hear from Self Interactive and D3 Technologies to learn about these technologies and explore applications in manufacturing in all aspects of your organization.
X-ALT-DESC;FMTTYPE=text/html:<span style="font-family:calibri\,sans-serif\;"><span style="font-size:10.0pt\;">How Virtual Reality and Augmented Reality Are&nbsp\;Transforming Manufacturing Manufacturing companies all over the world are already leveraging virtual reality (VR) and augmented reality (AR) technology today. Come hear from Self Interactive and D3 Technologies to learn about these technologies and explore applications in manufacturing in all aspects of your organization.</span></span><br />\n<br />\n&nbsp\;
LOCATION:Callaway Chamber of Commerce 510 Market Street Fulton MO 65251
UID:e.1836.10609
SEQUENCE:3
DTSTAMP:20260424T193803Z
URL:https://business.callawaychamber.net/events/details/lunch-n-learn-10609
END:VEVENT

END:VCALENDAR
