BEGIN:VCALENDAR
VERSION:2.0
PRODID:-//ChamberMaster//Event Calendar 2.0//EN
METHOD:PUBLISH
X-PUBLISHED-TTL:P3D
REFRESH-INTERVAL:P3D
CALSCALE:GREGORIAN
BEGIN:VEVENT
DTSTART:20201015T170000Z
DTEND:20201015T180000Z
X-MICROSOFT-CDO-ALLDAYEVENT:FALSE
SUMMARY:Marketing Resources Webinar
DESCRIPTION:Marketing Resources Webinar
X-ALT-DESC;FMTTYPE=text/html:Marketing Resources Webinar
LOCATION:Zoom
UID:e.1836.10730
SEQUENCE:3
DTSTAMP:20260424T080247Z
URL:https://business.callawaychamber.net/events/details/marketing-resources-webinar-10730
END:VEVENT

END:VCALENDAR
