BEGIN:VCALENDAR
VERSION:2.0
PRODID:-//ChamberMaster//Event Calendar 2.0//EN
METHOD:PUBLISH
X-PUBLISHED-TTL:P3D
REFRESH-INTERVAL:P3D
CALSCALE:GREGORIAN
BEGIN:VEVENT
DTSTART:20200916T213000Z
DTEND:20200916T223000Z
X-MICROSOFT-CDO-ALLDAYEVENT:FALSE
SUMMARY:Marketing Workshop
DESCRIPTION:Marketing Workshop with Jenny O'Donely
X-ALT-DESC;FMTTYPE=text/html:Marketing Workshop with Jenny O&#39\;Donely
LOCATION:Zoom
UID:e.1836.10716
SEQUENCE:3
DTSTAMP:20260424T093844Z
URL:https://business.callawaychamber.net/events/details/marketing-workshop-10716
END:VEVENT

END:VCALENDAR
