BEGIN:VCALENDAR
VERSION:2.0
PRODID:-//ChamberMaster//Event Calendar 2.0//EN
METHOD:PUBLISH
X-PUBLISHED-TTL:P3D
REFRESH-INTERVAL:P3D
CALSCALE:GREGORIAN
BEGIN:VEVENT
DTSTART:20230329T220000Z
DTEND:20230329T233000Z
X-MICROSOFT-CDO-ALLDAYEVENT:FALSE
SUMMARY:Mayor Candidate Forum
DESCRIPTION:Join us for a Mayor Candidate Forum on Wednesday\, March 29th beginning at 5pm at the Chamber. Candidates will have the opportunity to give their elevator pitch\, and then a Q&A session will take place. Questions for the candidates will be pre screened and must be submitted to Tamara\, tamara@callawaychamber.net prior to March 17.
X-ALT-DESC;FMTTYPE=text/html:<span style="font-size:14px\;"><span style="font-family:arial\;"><span style="color: rgb(5\, 5\, 5)\;">Join us for a Mayor Candidate Forum on Wednesday\, March 29th beginning at 5pm at the Chamber. Candidates will have the opportunity to give their elevator pitch\, and then a Q&amp\;A session will take place. Questions for the candidates will be pre screened and must be submitted to Tamara\, tamara@callawaychamber.net prior to March 17.</span></span></span>
LOCATION:Callaway Chamber of Commerce 510 Market St. Fulton\, MO 65251
UID:e.1836.11138
SEQUENCE:3
DTSTAMP:20260426T012854Z
URL:https://business.callawaychamber.net/events/details/mayor-candidate-forum-11138
END:VEVENT

END:VCALENDAR
