BEGIN:VCALENDAR
VERSION:2.0
PRODID:-//ChamberMaster//Event Calendar 2.0//EN
METHOD:PUBLISH
X-PUBLISHED-TTL:P3D
REFRESH-INTERVAL:P3D
CALSCALE:GREGORIAN
BEGIN:VEVENT
DTSTART:20200722T193000Z
DTEND:20200722T203000Z
X-MICROSOFT-CDO-ALLDAYEVENT:FALSE
SUMMARY:Missouri DED Grant Webinar
DESCRIPTION:Join us as Missouri Economic Development's Jonathan Mack and Michelle Hataway discuss the details regarding the Missouri Economic Development Small Business Grant Webinar.  This webinar will go over the specifics in the application\, qualifications and address questions that are sent in prior to the event.  \n\n\n\nPlease submit any questions you may have to Justis BEFORE the webinar so that our speakers can answer those.
X-ALT-DESC;FMTTYPE=text/html:Join us as Missouri Economic Development&#39\;s Jonathan Mack and Michelle Hataway discuss the details regarding the&nbsp\;<span style="font-family:calibri\,sans-serif\;"><span style="font-size:11.0pt\;">Missouri Economic Development Small Business Grant Webinar.&nbsp\; This webinar will go over the specifics in the application\, qualifications and address questions that are sent in prior to the event.&nbsp\;&nbsp\;<br />\n<br />\nPlease submit any questions you may have to Justis BEFORE the webinar so that our speakers can answer those.&nbsp\;&nbsp\;</span></span>
LOCATION:Zoom Meeting
UID:e.1836.10708
SEQUENCE:3
DTSTAMP:20260420T084524Z
URL:https://business.callawaychamber.net/events/details/missouri-ded-grant-webinar-10708
END:VEVENT

END:VCALENDAR
