BEGIN:VCALENDAR
VERSION:2.0
PRODID:-//ChamberMaster//Event Calendar 2.0//EN
METHOD:PUBLISH
X-PUBLISHED-TTL:P3D
REFRESH-INTERVAL:P3D
CALSCALE:GREGORIAN
BEGIN:VEVENT
DTSTART:20200912T170000Z
DTEND:20201017T170000Z
X-MICROSOFT-CDO-ALLDAYEVENT:FALSE
SUMMARY:Missouri Girls Town Foundation Online Auction
DESCRIPTION:Missouri Girls Town Foundation is hosting its first ever\, ONLINE AUCTION! www.biddingforgood.com/missourigirlstownfound Bidding ends on Oct 17th at 3 PM!
X-ALT-DESC;FMTTYPE=text/html:Missouri Girls Town Foundation is hosting its first ever\, ONLINE AUCTION! www.biddingforgood.com/missourigirlstownfound Bidding ends on Oct 17th at 3 PM!
LOCATION:www.biddingforgood.com/missourigirlstownfound
UID:e.1836.10728
SEQUENCE:3
DTSTAMP:20260424T080112Z
URL:https://business.callawaychamber.net/events/details/missouri-girls-town-foundation-online-auction-10728
END:VEVENT

END:VCALENDAR
