BEGIN:VCALENDAR
VERSION:2.0
PRODID:-//ChamberMaster//Event Calendar 2.0//EN
METHOD:PUBLISH
X-PUBLISHED-TTL:P3D
REFRESH-INTERVAL:P3D
CALSCALE:GREGORIAN
BEGIN:VEVENT
DTSTART:20200714T150000Z
DTEND:20200714T210000Z
X-MICROSOFT-CDO-ALLDAYEVENT:FALSE
SUMMARY:Mo-AMP Program Appointment Day 2
DESCRIPTION:The Mo-AMP Program is launching with classes beginning in August!  To apply for a spot in the program\, please call Shane at 573.642.3055 or email at businessrelations@callawaychamber.net. This event is Day 2 of appointments to apply for the program.
X-ALT-DESC;FMTTYPE=text/html:The Mo-AMP Program is launching with classes beginning in August!&nbsp\; To apply for a spot in the program\, please call Shane at 573.642.3055 or email at businessrelations@callawaychamber.net. This event is <strong>Day 2</strong>&nbsp\;of appointments to apply for the program.&nbsp\;&nbsp\;
LOCATION:Chamber Office\, 510 Market Street\, Fulton\, MO
UID:e.1836.10702
SEQUENCE:3
DTSTAMP:20260424T132448Z
URL:https://business.callawaychamber.net/events/details/mo-amp-program-appointment-day-2-10702
END:VEVENT

END:VCALENDAR
