BEGIN:VCALENDAR
VERSION:2.0
PRODID:-//ChamberMaster//Event Calendar 2.0//EN
METHOD:PUBLISH
X-PUBLISHED-TTL:P3D
REFRESH-INTERVAL:P3D
CALSCALE:GREGORIAN
BEGIN:VEVENT
DTSTART;VALUE=DATE:20201002
DTEND;VALUE=DATE:20201003
TRANSP:TRANSPARENT
X-MICROSOFT-CDO-ALLDAYEVENT:TRUE
SUMMARY:National Manufacturing Day
DESCRIPTION:2020 National Manufacturing Day
X-ALT-DESC;FMTTYPE=text/html:2020 National Manufacturing Day
LOCATION:
UID:e.1836.10648
SEQUENCE:3
DTSTAMP:20260424T075529Z
URL:https://business.callawaychamber.net/events/details/national-manufacturing-day-10648
END:VEVENT

END:VCALENDAR
