BEGIN:VCALENDAR
VERSION:2.0
PRODID:-//ChamberMaster//Event Calendar 2.0//EN
METHOD:PUBLISH
X-PUBLISHED-TTL:P3D
REFRESH-INTERVAL:P3D
CALSCALE:GREGORIAN
BEGIN:VEVENT
DTSTART:20201031T180000Z
DTEND:20201031T190000Z
X-MICROSOFT-CDO-ALLDAYEVENT:FALSE
SUMMARY:New Bloomfield PTA's Halloween Parade
DESCRIPTION:Join the New Bloomfield PTA for a Halloween Parade!
X-ALT-DESC;FMTTYPE=text/html:Join the New Bloomfield PTA for a Halloween Parade!&nbsp\;
LOCATION:Parade starts at New Bloomfield High School Parking Lot and follows the same route as the Christmas Parade
UID:e.1836.10749
SEQUENCE:3
DTSTAMP:20260424T094148Z
URL:https://business.callawaychamber.net/events/details/new-bloomfield-pta-s-halloween-parade-10749
END:VEVENT

END:VCALENDAR
