BEGIN:VCALENDAR
VERSION:2.0
PRODID:-//ChamberMaster//Event Calendar 2.0//EN
METHOD:PUBLISH
X-PUBLISHED-TTL:P3D
REFRESH-INTERVAL:P3D
CALSCALE:GREGORIAN
BEGIN:VEVENT
DTSTART:20170620T220000Z
DTEND:20170620T233000Z
X-MICROSOFT-CDO-ALLDAYEVENT:FALSE
SUMMARY:New Member Reception
DESCRIPTION:Please join us for our New Member Reception at the Chamber office.  Please RSVP by June 14 by calling the Chamber at 573-642-3055 or email at info@callawaychamber.net
X-ALT-DESC;FMTTYPE=text/html:Please join us for our New Member Reception at the Chamber office. &nbsp\;Please RSVP by June 14 by calling the Chamber at 573-642-3055 or email at info@callawaychamber.net&nbsp\;<br />\n&nbsp\;
LOCATION:Callaway Chamber of Commerce 510 Market Street Fulton MO 65251
UID:e.1836.10203
SEQUENCE:3
DTSTAMP:20260425T162419Z
URL:https://business.callawaychamber.net/events/details/new-member-reception-10203
END:VEVENT

END:VCALENDAR
