BEGIN:VCALENDAR
VERSION:2.0
PRODID:-//ChamberMaster//Event Calendar 2.0//EN
METHOD:PUBLISH
X-PUBLISHED-TTL:P3D
REFRESH-INTERVAL:P3D
CALSCALE:GREGORIAN
BEGIN:VEVENT
DTSTART:20210911T230000Z
DTEND:20210912T020000Z
X-MICROSOFT-CDO-ALLDAYEVENT:FALSE
SUMMARY:Peace\, Love & A Throwback Party
DESCRIPTION:Join us September 11\, 2021 from 6-9 PM for a Throwback Party with Volks in the Valley\, Those Guys & The Food Caboose - Even better if you dress up!
X-ALT-DESC;FMTTYPE=text/html:<span style="color: rgb(5\, 5\, 5)\; font-family: &quot\;Segoe UI Historic&quot\;\, &quot\;Segoe UI&quot\;\, Helvetica\, Arial\, sans-serif\; font-size: 15px\; white-space: pre-wrap\;">Join us September 11\, 2021 from 6-9 PM for a Throwback Party with Volks in the Valley\, Those Guys &amp\; The Food Caboose - Even better if you dress up! </span>
LOCATION:Serenity Valley Winery
UID:e.1836.10887
SEQUENCE:3
DTSTAMP:20260424T165154Z
URL:https://business.callawaychamber.net/events/details/peace-love-a-throwback-party-10887
END:VEVENT

END:VCALENDAR
