BEGIN:VCALENDAR
VERSION:2.0
PRODID:-//ChamberMaster//Event Calendar 2.0//EN
METHOD:PUBLISH
X-PUBLISHED-TTL:P3D
REFRESH-INTERVAL:P3D
CALSCALE:GREGORIAN
BEGIN:VEVENT
DTSTART:20200528T150000Z
DTEND:20200528T160000Z
X-MICROSOFT-CDO-ALLDAYEVENT:FALSE
SUMMARY:Perks of Your Chamber Membership
DESCRIPTION:Whether you have been a member for 20 years or 6 months\, this class will provide you a refresh on the benefits and perks of your Chamber membership and what new tools and tricks we are using to promote your business.
X-ALT-DESC;FMTTYPE=text/html:<span style="color: rgb(29\, 33\, 41)\; font-family: Helvetica\, Arial\, sans-serif\; font-size: 14px\; white-space: pre-wrap\;">Whether you have been a member for 20 years or 6 months\, this class will provide you a refresh on the benefits and perks of your Chamber membership and what new tools and tricks we are using to promote your business. </span>
LOCATION:Zoom
UID:e.1836.10694
SEQUENCE:3
DTSTAMP:20260424T164409Z
URL:https://business.callawaychamber.net/events/details/perks-of-your-chamber-membership-10694
END:VEVENT

END:VCALENDAR
