BEGIN:VCALENDAR
VERSION:2.0
PRODID:-//ChamberMaster//Event Calendar 2.0//EN
METHOD:PUBLISH
X-PUBLISHED-TTL:P3D
REFRESH-INTERVAL:P3D
CALSCALE:GREGORIAN
BEGIN:VEVENT
DTSTART:20191003T220000Z
DTEND:20191004T000000Z
X-MICROSOFT-CDO-ALLDAYEVENT:FALSE
SUMMARY:PITCH Class
DESCRIPTION:PITCH Class with Jessie Yankee from the MO Women's Business Center\n\nLaunching Your Small Business:  The First Steps\n\nThe Basics of Business Plan Essentials \n\n\n\nPlease RSVP to info@callawaychamber.net or online at www.callawaychamber.net
X-ALT-DESC;FMTTYPE=text/html:PITCH Class with Jessie Yankee from the MO Women&#39\;s Business Center<br />\nLaunching Your Small Business:&nbsp\; The First Steps<br />\nThe Basics of Business Plan Essentials&nbsp\;<br />\n<br />\nPlease RSVP to info@callawaychamber.net or online at www.callawaychamber.net
LOCATION:Callaway Chamber of Commerce 510 Market Street Fulton MO 65251
UID:e.1836.10589
SEQUENCE:3
DTSTAMP:20260425T025305Z
URL:https://business.callawaychamber.net/events/details/pitch-class-10589
END:VEVENT

END:VCALENDAR
