BEGIN:VCALENDAR
VERSION:2.0
PRODID:-//ChamberMaster//Event Calendar 2.0//EN
METHOD:PUBLISH
X-PUBLISHED-TTL:P3D
REFRESH-INTERVAL:P3D
CALSCALE:GREGORIAN
BEGIN:VEVENT
DTSTART:20200430T170000Z
DTEND:20200430T173500Z
X-MICROSOFT-CDO-ALLDAYEVENT:FALSE
SUMMARY:Postive Habits = Positive Results
DESCRIPTION:During this time\, we may be lacking the positivity that we need to go through the day\, achieve our goals\, or run our business.  Join Ascend Business Strategies founder Gary Wilbers\, as he goes over tips and ways to create positivity that will result in positive habits.  With his unique lunch-time talk of just 37 minutes\, you can able to grab a bite and a drink and find ways to make a positive difference in your everyday life.
X-ALT-DESC;FMTTYPE=text/html:During this time\, we may be lacking the positivity that we need to go through the day\, achieve our goals\, or run our business.&nbsp\; Join Ascend Business Strategies founder Gary Wilbers\, as he goes over tips and ways to create positivity that will result in positive habits.&nbsp\; With his unique lunch-time talk of just 37 minutes\, you can able to grab a bite and a drink and find ways to make a positive difference in your everyday life.&nbsp\;
LOCATION:Zoom meeting
UID:e.1836.10681
SEQUENCE:3
DTSTAMP:20260424T182128Z
URL:https://business.callawaychamber.net/events/details/postive-habits-positive-results-10681
END:VEVENT

END:VCALENDAR
