BEGIN:VCALENDAR
VERSION:2.0
PRODID:-//ChamberMaster//Event Calendar 2.0//EN
METHOD:PUBLISH
X-PUBLISHED-TTL:P3D
REFRESH-INTERVAL:P3D
CALSCALE:GREGORIAN
BEGIN:VEVENT
DTSTART:20200402T160000Z
DTEND:20200402T170000Z
X-MICROSOFT-CDO-ALLDAYEVENT:FALSE
SUMMARY:POSTPONED - 2020 Ambassador Luncheon
DESCRIPTION:This will include a working lunch as we go over goals for 2020 and meet the newest faces of the ambassador group!
X-ALT-DESC;FMTTYPE=text/html:This will include a working lunch as we go over goals for 2020 and meet the newest faces of the ambassador group!
LOCATION:Chamber of Commerce Office 510 Market Street\, Fulton\, MO 65251
UID:e.1836.10665
SEQUENCE:3
DTSTAMP:20260424T182259Z
URL:https://business.callawaychamber.net/events/details/postponed-2020-ambassador-luncheon-10665
END:VEVENT

END:VCALENDAR
