BEGIN:VCALENDAR
VERSION:2.0
PRODID:-//ChamberMaster//Event Calendar 2.0//EN
METHOD:PUBLISH
X-PUBLISHED-TTL:P3D
REFRESH-INTERVAL:P3D
CALSCALE:GREGORIAN
BEGIN:VEVENT
DTSTART:20200409T170000Z
DTEND:20200409T180000Z
X-MICROSOFT-CDO-ALLDAYEVENT:FALSE
SUMMARY:POSTPONED - Minimizing Tax Liabaility/Maximixing Charitable Giving
DESCRIPTION:Owning a business has amazing perks and taxes could be one of them. Charitable giving shouldn't be complicated and we are here to teach you how!  Evan Lang\, President\, Midwest Region of The Signatry will be sharing how The Signatry can help you lower your tax liability while increasing charitable giving through a Donor Advised Fund. Evan will stick around and answer specific questions after lunch.
X-ALT-DESC;FMTTYPE=text/html:Owning a business has amazing perks and taxes could be one of them. Charitable giving shouldn&rsquo\;t be complicated and we are here to teach you how!&nbsp\;&nbsp\;Evan Lang\, President\, Midwest Region of The Signatry will be sharing how The Signatry can help you lower your tax liability while increasing charitable giving through a Donor Advised Fund. Evan will stick around and answer specific questions after lunch.
LOCATION:Chamber of Commerce 510 Market Street Fulton\, MO 65251
UID:e.1836.10677
SEQUENCE:3
DTSTAMP:20260424T182556Z
URL:https://business.callawaychamber.net/events/details/postponed-minimizing-tax-liabaility-maximixing-charitable-giving-10677
END:VEVENT

END:VCALENDAR
