BEGIN:VCALENDAR
VERSION:2.0
PRODID:-//ChamberMaster//Event Calendar 2.0//EN
METHOD:PUBLISH
X-PUBLISHED-TTL:P3D
REFRESH-INTERVAL:P3D
CALSCALE:GREGORIAN
BEGIN:VEVENT
DTSTART:20191017T230000Z
DTEND:20191018T000000Z
X-MICROSOFT-CDO-ALLDAYEVENT:FALSE
SUMMARY:Public Forum
DESCRIPTION:The Callaway County Commission and the Callaway County Sheriff will hold two public forums to educate and address questions regarding proposition 1 and proposition 2 that will appear on the November 05\, 2019 ballot.
X-ALT-DESC;FMTTYPE=text/html:The Callaway County Commission and the Callaway County Sheriff will hold two public forums to educate and address questions regarding proposition 1 and proposition 2 that will appear on the November 05\, 2019 ballot.
LOCATION:Holts Summit Municipal Court Building\, 213 S. Summit Drive\, Holts Summit\, MO 65043
UID:e.1836.10604
SEQUENCE:3
DTSTAMP:20260425T025310Z
URL:https://business.callawaychamber.net/events/details/public-forum-10604
END:VEVENT

END:VCALENDAR
