BEGIN:VCALENDAR
VERSION:2.0
PRODID:-//ChamberMaster//Event Calendar 2.0//EN
METHOD:PUBLISH
X-PUBLISHED-TTL:P3D
REFRESH-INTERVAL:P3D
CALSCALE:GREGORIAN
BEGIN:VEVENT
DTSTART:20200512T170000Z
DTEND:20200512T180000Z
X-MICROSOFT-CDO-ALLDAYEVENT:FALSE
SUMMARY:Questions to be Asking When Amending & Administering During COVID-19
DESCRIPTION:COVID-19 changes exist in a cross-section of labor law\, including OSHA safety requirements\, wage & hour (pay and compensation)\, anti-discrimination responsibilities\, and benefits administration.  Managing policy changes ina way that helps navigate these sometimes conflicting issues can be challenging.  This webinar will give us some questions (and issues) that employers should take into consideration when amending and administering policy\, so they can prioritize their action points.
X-ALT-DESC;FMTTYPE=text/html:<span class="JsGRdQ" style="font-weight: 700\; color: rgb(0\, 0\, 0)\;">COVID-19 changes exist in a cross-section of labor law\, including OSHA safety requirements\, wage &amp\; hour (pay and compensation)\, anti-discrimination responsibilities\, and benefits administration.&nbsp\; Managing policy changes ina way that helps navigate these sometimes conflicting issues can be challenging.&nbsp\; This webinar will give us some questions (and issues) that employers should take into consideration when amending and administering policy\, so they can prioritize their action points.</span>
LOCATION:Zoom Meeting
UID:e.1836.10686
SEQUENCE:3
DTSTAMP:20260424T164409Z
URL:https://business.callawaychamber.net/events/details/questions-to-be-asking-when-amending-administering-during-covid-19-10686
END:VEVENT

END:VCALENDAR
