BEGIN:VCALENDAR
VERSION:2.0
PRODID:-//ChamberMaster//Event Calendar 2.0//EN
METHOD:PUBLISH
X-PUBLISHED-TTL:P3D
REFRESH-INTERVAL:P3D
CALSCALE:GREGORIAN
BEGIN:VEVENT
DTSTART:20230209T170000Z
DTEND:20230209T180000Z
X-MICROSOFT-CDO-ALLDAYEVENT:FALSE
SUMMARY:Recruiting\, Developing\, & Retaining a Talented Team
DESCRIPTION:How to deliver on "great customer service" by emphasizing "great employee service"\n	How to set (and if needed\, how to shift) your organization's perception and culture\n	The long term impact of poor personnel decisions on your business's profits and longevity
X-ALT-DESC;FMTTYPE=text/html:<ul>\n	<li>How to deliver on &quot\;great customer service&quot\; by emphasizing &quot\;great employee service&quot\;</li>\n	<li>How to set (and if needed\, how to shift) your organization&#39\;s perception and culture</li>\n	<li>The long term impact of poor personnel decisions on your business&#39\;s profits and longevity</li>\n</ul>\n
LOCATION:Webinar
UID:e.1836.11106
SEQUENCE:3
DTSTAMP:20260422T150842Z
URL:https://business.callawaychamber.net/events/details/recruiting-developing-retaining-a-talented-team-11106
END:VEVENT

END:VCALENDAR
