BEGIN:VCALENDAR
VERSION:2.0
PRODID:-//ChamberMaster//Event Calendar 2.0//EN
METHOD:PUBLISH
X-PUBLISHED-TTL:P3D
REFRESH-INTERVAL:P3D
CALSCALE:GREGORIAN
BEGIN:VEVENT
DTSTART:20210923T131500Z
DTEND:20210923T141500Z
X-MICROSOFT-CDO-ALLDAYEVENT:FALSE
SUMMARY:Recruiting Talent that Stays the Distance
DESCRIPTION:Join Doris Scribner with Executive Advantage LLC for this information filled webinar design to get you the right employees for your business. Our recruiting workshop consisted of many different topics including: why hiring matters\, effective interviewing\, retention\, legal issues\, and much more! The workshop will be conversationally driven\, with questions and concerns from other local business. This is a great opportunity to ask any questions you may have about the hiring and recruiting process in a convenient way.\n\n\n\nRegister by emailing businessrelations@callawaychamber.net .
X-ALT-DESC;FMTTYPE=text/html:<div style="font-family: Arimo\, Arial\, Verdana\, sans-serif\; font-size: 12px\; display: inline-block\;">\n<p><span style="font-size:14px\;">Join Doris Scribner with Executive Advantage LLC for this information filled webinar design to get you the right employees for your business.&nbsp\;<span style="font-family: Arimo\, Arial\, Verdana\, sans-serif\;">Our recruiting workshop consisted of many different topics including: why hiring matters\, effective interviewing\, retention\, legal issues\, and much more!</span>&nbsp\;<span style="color:#201F1E\;">The workshop will be conversationally driven\, with questions and concerns from other local business. This is a great opportunity to ask any questions you may have about the hiring and&nbsp\;recruiting&nbsp\;process in a convenient way.<br />\n<br />\nRegister by emailing businessrelations@callawaychamber.net .</span></span></p>\n</div>\n
LOCATION:via Zoom
UID:e.1836.10910
SEQUENCE:3
DTSTAMP:20260424T164619Z
URL:https://business.callawaychamber.net/events/details/recruiting-talent-that-stays-the-distance-10910
END:VEVENT

END:VCALENDAR
