BEGIN:VCALENDAR
VERSION:2.0
PRODID:-//ChamberMaster//Event Calendar 2.0//EN
METHOD:PUBLISH
X-PUBLISHED-TTL:P3D
REFRESH-INTERVAL:P3D
CALSCALE:GREGORIAN
BEGIN:VEVENT
DTSTART:20200423T180000Z
DTEND:20200423T230000Z
X-MICROSOFT-CDO-ALLDAYEVENT:FALSE
SUMMARY:Red Cross Blood Drive at Westminster College
DESCRIPTION:Donate blood. Save a life. Schedule your appointment online at redcrossblood.org - type in 'WestminsterCollege' in the search field.
X-ALT-DESC;FMTTYPE=text/html:Donate blood. Save a life. Schedule your appointment online at redcrossblood.org - type in &#39\;WestminsterCollege&#39\; in the search field.
LOCATION:Westminster College\, Mueller Student Center
UID:e.1836.10679
SEQUENCE:3
DTSTAMP:20260424T194221Z
URL:https://business.callawaychamber.net/events/details/red-cross-blood-drive-at-westminster-college-10679
END:VEVENT

END:VCALENDAR
