BEGIN:VCALENDAR
VERSION:2.0
PRODID:-//ChamberMaster//Event Calendar 2.0//EN
METHOD:PUBLISH
X-PUBLISHED-TTL:P3D
REFRESH-INTERVAL:P3D
CALSCALE:GREGORIAN
BEGIN:VEVENT
DTSTART:20200618T180000Z
DTEND:20200618T230000Z
X-MICROSOFT-CDO-ALLDAYEVENT:FALSE
SUMMARY:Red Cross Blood Drive - Westminster College
DESCRIPTION:Now\, more than ever\, we are in a blood shortage. Donate if you can! Blood Drive COVID19 Protocol: - by appointment ONLY (schedule online at redcrossblood.org\, type 'WestminsterCollege' in search field) - donors will have their temperature checked upon arrival - donors will be required to wear a mask (Red Cross will provide) Beds and chairs will be spaced 6 ft apart in compliance with CDC recommendations. **Only 24 slots available\, so sign up fast!**
X-ALT-DESC;FMTTYPE=text/html:Now\, more than ever\, we are in a blood shortage. Donate if you can! Blood Drive COVID19 Protocol: - by appointment ONLY (schedule online at redcrossblood.org\, type &#39\;WestminsterCollege&#39\; in search field) - donors will have their temperature checked upon arrival - donors will be required to wear a mask (Red Cross will provide) Beds and chairs will be spaced 6 ft apart in compliance with CDC recommendations. **Only 24 slots available\, so sign up fast!**
LOCATION:Mueller Student Center - Westminster College
UID:e.1836.10692
SEQUENCE:3
DTSTAMP:20260424T153743Z
URL:https://business.callawaychamber.net/events/details/red-cross-blood-drive-westminster-college-10692
END:VEVENT

END:VCALENDAR
