BEGIN:VCALENDAR
VERSION:2.0
PRODID:-//ChamberMaster//Event Calendar 2.0//EN
METHOD:PUBLISH
X-PUBLISHED-TTL:P3D
REFRESH-INTERVAL:P3D
CALSCALE:GREGORIAN
BEGIN:VEVENT
DTSTART:20191102T160000Z
DTEND:20191102T190000Z
X-MICROSOFT-CDO-ALLDAYEVENT:FALSE
SUMMARY:Relay for Life of Callaway County 2019 Chili Cook-Off
DESCRIPTION:Relay for Life of Callaway County 2019 Chili Cook-Off $10 to Enter $5 to Taste Survivors Free Children Under 3 Free Competitors must be registered by 10/25/19 Competitor Categories: Judges Choice & Peoples Choice
X-ALT-DESC;FMTTYPE=text/html:Relay for Life of Callaway County 2019 Chili Cook-Off $10 to Enter $5 to Taste Survivors Free Children Under 3 Free Competitors must be registered by 10/25/19 Competitor Categories: Judges Choice &amp\; Peoples Choice
LOCATION:Fulton Medical Center (10 S. Hospital Drive\, Fulton\, MO 65251)
UID:e.1836.10598
SEQUENCE:3
DTSTAMP:20260425T014529Z
URL:https://business.callawaychamber.net/events/details/relay-for-life-of-callaway-county-2019-chili-cook-off-10598
END:VEVENT

END:VCALENDAR
