BEGIN:VCALENDAR
VERSION:2.0
PRODID:-//ChamberMaster//Event Calendar 2.0//EN
METHOD:PUBLISH
X-PUBLISHED-TTL:P3D
REFRESH-INTERVAL:P3D
CALSCALE:GREGORIAN
BEGIN:VEVENT
DTSTART:20180312T150000Z
DTEND:20180312T153000Z
X-MICROSOFT-CDO-ALLDAYEVENT:FALSE
SUMMARY:Ribbon Cuttin for MB Tech Plus
DESCRIPTION:Ribbon Cutting for MB Tech Plus
X-ALT-DESC;FMTTYPE=text/html:Ribbon Cutting for MB Tech Plus
LOCATION:603 Nichols St Suite A Fulton MO 65251
UID:e.1836.10291
SEQUENCE:3
DTSTAMP:20260422T085528Z
URL:https://business.callawaychamber.net/events/details/ribbon-cuttin-for-mb-tech-plus-10291
END:VEVENT

END:VCALENDAR
