BEGIN:VCALENDAR
VERSION:2.0
PRODID:-//ChamberMaster//Event Calendar 2.0//EN
METHOD:PUBLISH
X-PUBLISHED-TTL:P3D
REFRESH-INTERVAL:P3D
CALSCALE:GREGORIAN
BEGIN:VEVENT
DTSTART:20181109T190000Z
DTEND:20181109T193000Z
X-MICROSOFT-CDO-ALLDAYEVENT:FALSE
SUMMARY:Ribbon Cutting
DESCRIPTION:Ribbon Cutting for Aging Made Easy\, LLC
X-ALT-DESC;FMTTYPE=text/html:Ribbon Cutting for Aging Made Easy\, LLC<br />\n&nbsp\;
LOCATION:2606 N. Bluff Street\, Suite 102B Fulton MO 65251
UID:e.1836.10507
SEQUENCE:3
DTSTAMP:20260425T211151Z
URL:https://business.callawaychamber.net/events/details/ribbon-cutting-10507
END:VEVENT

END:VCALENDAR
