BEGIN:VCALENDAR
VERSION:2.0
PRODID:-//ChamberMaster//Event Calendar 2.0//EN
METHOD:PUBLISH
X-PUBLISHED-TTL:P3D
REFRESH-INTERVAL:P3D
CALSCALE:GREGORIAN
BEGIN:VEVENT
DTSTART:20181119T203000Z
DTEND:20181119T210000Z
X-MICROSOFT-CDO-ALLDAYEVENT:FALSE
SUMMARY:Ribbon Cutting
DESCRIPTION:Ribbon Cutting/Grand Opening for our Workforce Development Training Center
X-ALT-DESC;FMTTYPE=text/html:Ribbon Cutting/Grand Opening&nbsp\;for our Workforce Development Training Center
LOCATION:Callaway Chamber of Commerce 510 Market Street Fulton MO 65251
UID:e.1836.10515
SEQUENCE:3
DTSTAMP:20260425T211201Z
URL:https://business.callawaychamber.net/events/details/ribbon-cutting-10515
END:VEVENT

END:VCALENDAR
