BEGIN:VCALENDAR
VERSION:2.0
PRODID:-//ChamberMaster//Event Calendar 2.0//EN
METHOD:PUBLISH
X-PUBLISHED-TTL:P3D
REFRESH-INTERVAL:P3D
CALSCALE:GREGORIAN
BEGIN:VEVENT
DTSTART:20190305T160000Z
DTEND:20190305T163000Z
X-MICROSOFT-CDO-ALLDAYEVENT:FALSE
SUMMARY:Ribbon Cutting
DESCRIPTION:Ribbon Cutting for the National Churchill Museum
X-ALT-DESC;FMTTYPE=text/html:Ribbon Cutting for the National Churchill Museum
LOCATION:National Churchill Museum 501 Westminster Ave. Fulton MO 65251
UID:e.1836.10539
SEQUENCE:3
DTSTAMP:20260425T142200Z
URL:https://business.callawaychamber.net/events/details/ribbon-cutting-10539
END:VEVENT

END:VCALENDAR
