BEGIN:VCALENDAR
VERSION:2.0
PRODID:-//ChamberMaster//Event Calendar 2.0//EN
METHOD:PUBLISH
X-PUBLISHED-TTL:P3D
REFRESH-INTERVAL:P3D
CALSCALE:GREGORIAN
BEGIN:VEVENT
DTSTART:20190626T150000Z
DTEND:20190626T180000Z
X-MICROSOFT-CDO-ALLDAYEVENT:FALSE
SUMMARY:Ribbon Cutting
DESCRIPTION:Ribbon Cutting/Open House
X-ALT-DESC;FMTTYPE=text/html:Ribbon Cutting/Open House&nbsp\;&nbsp\;&nbsp\;&nbsp\;
LOCATION:Callaway Custom Printing 101 W. 4th Street Fulton MO 65251
UID:e.1836.10558
SEQUENCE:3
DTSTAMP:20260425T110901Z
URL:https://business.callawaychamber.net/events/details/ribbon-cutting-10558
END:VEVENT

END:VCALENDAR
