BEGIN:VCALENDAR
VERSION:2.0
PRODID:-//ChamberMaster//Event Calendar 2.0//EN
METHOD:PUBLISH
X-PUBLISHED-TTL:P3D
REFRESH-INTERVAL:P3D
CALSCALE:GREGORIAN
BEGIN:VEVENT
DTSTART:20191018T150000Z
DTEND:20191018T153000Z
X-MICROSOFT-CDO-ALLDAYEVENT:FALSE
SUMMARY:Ribbon Cutting
DESCRIPTION:US Cellular Ribbon Cutting
X-ALT-DESC;FMTTYPE=text/html:US Cellular Ribbon Cutting&nbsp\;&nbsp\;&nbsp\;&nbsp\;
LOCATION:US Cellular (by Family Video) 305 St. Louis Ave. Fulton MO 65251
UID:e.1836.10603
SEQUENCE:3
DTSTAMP:20260425T031419Z
URL:https://business.callawaychamber.net/events/details/ribbon-cutting-10603
END:VEVENT

END:VCALENDAR
